BEGIN:VCALENDAR
VERSION:2.0
PRODID:-//eventon.com NONSGML v1.0//EN
CALSCALE:GREGORIAN
METHOD:PUBLISH
BEGIN:VEVENT
UID:69e7390e352a5
DTSTAMP:20260421T084502Z
DTSTART:20260422T121200Z
DTEND:20260422T121200Z
LOCATION:
SUMMARY:Spendenlauf
DESCRIPTION:\nhttps://www.grundschule-mendelssohnstrasse.de/termin/spendenl
 auf-2/
URL:https://www.grundschule-mendelssohnstrasse.de/termin/spendenlauf-2/
END:VEVENT
END:VCALENDAR