BEGIN:VCALENDAR
VERSION:2.0
PRODID:-//eventon.com NONSGML v1.0//EN
CALSCALE:GREGORIAN
METHOD:PUBLISH
BEGIN:VEVENT
UID:69e7348254718
DTSTAMP:20260421T082538Z
DTSTART:20260610T170000Z
DTEND:20260610T190000Z
LOCATION:
SUMMARY:Elternratssitzung (Juni)
DESCRIPTION:\nhttps://www.grundschule-mendelssohnstrasse.de/termin/elternra
 tssitzung-juni-3/
URL:https://www.grundschule-mendelssohnstrasse.de/termin/elternratssitzung-juni-3/
END:VEVENT
END:VCALENDAR