BEGIN:VCALENDAR
VERSION:2.0
PRODID:-//eventon.com NONSGML v1.0//EN
CALSCALE:GREGORIAN
METHOD:PUBLISH
BEGIN:VEVENT
UID:69e6988056e90
DTSTAMP:20260420T212000Z
DTSTART:20250212T180000Z
DTEND:20250212T200000Z
LOCATION:
SUMMARY:Medienelternabend VSK+Jg.1+Jg.2
DESCRIPTION:\nhttps://www.grundschule-mendelssohnstrasse.de/termin/medienel
 ternabend-vskjg-1jg-2/
URL:https://www.grundschule-mendelssohnstrasse.de/termin/medienelternabend-vskjg-1jg-2/
END:VEVENT
END:VCALENDAR