BEGIN:VCALENDAR
VERSION:2.0
PRODID:-//eventon.com NONSGML v1.0//EN
CALSCALE:GREGORIAN
METHOD:PUBLISH
BEGIN:VEVENT
UID:69e6b1d83d8e9
DTSTAMP:20260420T230808Z
DTSTART:20250502
DTEND:20250503
LOCATION:
SUMMARY:schulfrei/beweglicher Ferientag
DESCRIPTION:\nhttps://www.grundschule-mendelssohnstrasse.de/termin/schulfre
 i-beweglicher-ferientag/
URL:https://www.grundschule-mendelssohnstrasse.de/termin/schulfrei-beweglicher-ferientag/
END:VEVENT
END:VCALENDAR