BEGIN:VCALENDAR
VERSION:2.0
PRODID:-//eventon.com NONSGML v1.0//EN
CALSCALE:GREGORIAN
METHOD:PUBLISH
BEGIN:VEVENT
UID:69e747dc6af36
DTSTAMP:20260421T094812Z
DTSTART:20230601
DTEND:20230602
LOCATION:
SUMMARY:Schnuppertag für die neuen ersten Klassen
DESCRIPTION:\nhttps://www.grundschule-mendelssohnstrasse.de/termin/schnuppe
 rtag-fuer-die-neuen-ersten-klassen-2/
URL:https://www.grundschule-mendelssohnstrasse.de/termin/schnuppertag-fuer-die-neuen-ersten-klassen-2/
END:VEVENT
END:VCALENDAR