BEGIN:VCALENDAR
VERSION:2.0
PRODID:-//eventon.com NONSGML v1.0//EN
CALSCALE:GREGORIAN
METHOD:PUBLISH
BEGIN:VEVENT
UID:69e88c12d5304
DTSTAMP:20260422T085130Z
DTSTART:20220513
DTEND:20220514
LOCATION:
SUMMARY:Sommerfest
DESCRIPTION:Sommerfest\nhttps://www.grundschule-mendelssohnstrasse.de/termi
 n/sommerfest/
URL:https://www.grundschule-mendelssohnstrasse.de/termin/sommerfest/
END:VEVENT
END:VCALENDAR